BEGIN:VCALENDAR
VERSION:2.0
PRODID:-//eventon.com NONSGML v1.0//EN
BEGIN:VEVENT
UID:69ea2f872cb62
DTSTAMP:20260423T154111
DTSTART:20250712
DTEND:20250712
TZID:Etc/Greenwich
LOCATION:
SUMMARY:Barking & Dagenham Carnival
DESCRIPTION: Barking & Dagenham Carnival
URL:https://ukoncareers.com/events/barking-dagenham-carnival-2/
END:VEVENT
END:VCALENDAR